BEGIN:VCALENDAR
VERSION:2.0
PRODID:-//Library Market//iCal Export//EN
BEGIN:VEVENT
SUMMARY:Beyond Basics: Taking Your Family History Research to the Next Lev
 el
UID:12147
DTSTAMP:20260424T010800Z
DTSTART:20260521T150000Z
DTEND:20260521T170000Z
LOCATION:823 Telfair St, Augusta, GA 30901, United States
ROOM: Headquarters - Computer Lab
DESCRIPTION:Beyond Basics: Taking Your Family History Research to the Next
  Level. Hit a brick wall in your family research? Don’t know what to do 
 or where to go for that next clue? Join professional genealogist Tina Rae 
 Floyd on Thursday, May 21, at 11:00 am in the third-floor computer lab as 
 she helps participants find ways to break down those walls. This is an in
 termediate-level class, so participants must be familiar with basic geneal
 ogical concepts and comfortable navigating genealogy databases such as Anc
 estry.com and FamilySearch.org. Please call 706-826-1511 to register.
URL:https://arcpls.librarycalendar.com/event/georgia-room-programming-1214
 7
END:VEVENT
END:VCALENDAR
