BEGIN:VCALENDAR
VERSION:2.0
PRODID:-//Library Market//iCal Export//EN
BEGIN:VEVENT
SUMMARY:Summer Learning Launch Drop-In
UID:12141
DTSTAMP:20260424T010800Z
DTSTART:20260528T180000Z
DTEND:20260528T200000Z
LOCATION:101 Diamond Lakes Way, Hephzibah, GA 30815, United States
ROOM: Summer Learning Launch Drop-In
DESCRIPTION:Drop in, do some themed crafting, get a pic in our Dino themed
  photo booth corner and get up to speed on what&#039;s happening in your l
 ibrary this summer!  And don&#039;t forget to grab a Dino reading buddy k
 it.  *Please note that all activities and kits are while supplies last.
URL:https://arcpls.librarycalendar.com/event/summer-learning-launch-drop-1
 2141
END:VEVENT
END:VCALENDAR
